OziExplorer Map Data File Version 2.2
mapusa(125m).jpg
mapusa(125m).ozfx3
1 ,Map Code,
WGS 84,, 0.0000, 0.0000,WGS 84
Reserved 1
Reserved 2
Magnetic Variation,,,E
Map Projection,Mercator,PolyCal,No,AutoCalOnly,No,BSBUseWPX,No
Point01,xy, 0, 0,in, deg, 15, 37.19374451,N, 73, 47.54516601,E, grid, , , ,N
Point02,xy, 5120, 4848,in, deg, 15, 34.18782772,N, 73, 50.84106445,E, grid, , , ,N
Point03,xy, 0, 4848,in, deg, 15, 34.18782772,N, 73, 47.54516601,E, grid, , , ,N
Point04,xy, 5120, 0,in, deg, 15, 37.19374451,N, 73, 50.84106445,E, grid, , , ,N
Point05,xy, 2560, 2424,in, deg, 15, 35.69087781,N, 73, 49.19311523,E, grid, , , ,N
Point06,xy, 2560, 0,in, deg, 15, 37.19374451,N, 73, 49.19311523,E, grid, , , ,N
Point07,xy, 0, 2424,in, deg, 15, 35.69087781,N, 73, 47.54516601,E, grid, , , ,N
Point08,xy, 5120, 2424,in, deg, 15, 35.69087781,N, 73, 50.84106445,E, grid, , , ,N
Point09,xy, 2560, 4848,in, deg, 15, 34.18782772,N, 73, 49.19311523,E, grid, , , ,N
Point10,xy, , ,in, deg, , ,N, , ,W, grid, , , ,N
Point11,xy, , ,in, deg, , ,N, , ,W, grid, , , ,N
Point12,xy, , ,in, deg, , ,N, , ,W, grid, , , ,N
Point13,xy, , ,in, deg, , ,N, , ,W, grid, , , ,N
Point14,xy, , ,in, deg, , ,N, , ,W, grid, , , ,N
Point15,xy, , ,in, deg, , ,N, , ,W, grid, , , ,N
Point16,xy, , ,in, deg, , ,N, , ,W, grid, , , ,N
Point17,xy, , ,in, deg, , ,N, , ,W, grid, , , ,N
Point18,xy, , ,in, deg, , ,N, , ,W, grid, , , ,N
Point19,xy, , ,in, deg, , ,N, , ,W, grid, , , ,N
Point20,xy, , ,in, deg, , ,N, , ,W, grid, , , ,N
Point21,xy, , ,in, deg, , ,N, , ,W, grid, , , ,N
Point22,xy, , ,in, deg, , ,N, , ,W, grid, , , ,N
Point23,xy, , ,in, deg, , ,N, , ,W, grid, , , ,N
Point24,xy, , ,in, deg, , ,N, , ,W, grid, , , ,N
Point25,xy, , ,in, deg, , ,N, , ,W, grid, , , ,N
Point26,xy, , ,in, deg, , ,N, , ,W, grid, , , ,N
Point27,xy, , ,in, deg, , ,N, , ,W, grid, , , ,N
Point28,xy, , ,in, deg, , ,N, , ,W, grid, , , ,N
Point29,xy, , ,in, deg, , ,N, , ,W, grid, , , ,N
Point30,xy, , ,in, deg, , ,N, , ,W, grid, , , ,N
Projection Setup,,,,,,,,,,
Map Feature = MF ; Map Comment = MC These follow if they exist
Track File = TF These follow if they exist
Moving Map Parameters = MM? These follow if they exist
MM0,Yes
MMPNUM,4
MMPXY,1,0,0
MMPXY,2,5120,0
MMPXY,3,5120,4848
MMPXY,4,0,4848
MMPLL,1, 73.79241943, 15.61989574
MMPLL,2, 73.84735107, 15.61989574
MMPLL,3, 73.84735107, 15.56979712
MMPLL,4, 73.79241943, 15.56979712
MM1B,1.15036144
MOP,Map Open Position,0,0
IWH,Map Image Width/Height,5120,4848
