OziExplorer Map Data File Version 2.2
maharashtranorth(5km).jpg
maharashtranorth(5km).ozfx3
1 ,Map Code,
WGS 84,, 0.0000, 0.0000,WGS 84
Reserved 1
Reserved 2
Magnetic Variation,,,E
Map Projection,Mercator,PolyCal,No,AutoCalOnly,No,BSBUseWPX,No
Point01,xy, 0, 0,in, deg, 22, 1.47273607,N, 72, 35.859375,E, grid, , , ,N
Point02,xy, 12416, 5248,in, deg, 18, 38.77470856,N, 81, 7.3828125,E, grid, , , ,N
Point03,xy, 0, 5248,in, deg, 18, 38.77470856,N, 72, 35.859375,E, grid, , , ,N
Point04,xy, 12416, 0,in, deg, 22, 1.47273607,N, 81, 7.3828125,E, grid, , , ,N
Point05,xy, 6208, 2624,in, deg, 20, 20.67761662,N, 76, 51.62109375,E, grid, , , ,N
Point06,xy, 6208, 0,in, deg, 22, 1.47273607,N, 76, 51.62109375,E, grid, , , ,N
Point07,xy, 0, 2624,in, deg, 20, 20.67761662,N, 72, 35.859375,E, grid, , , ,N
Point08,xy, 12416, 2624,in, deg, 20, 20.67761662,N, 81, 7.3828125,E, grid, , , ,N
Point09,xy, 6208, 5248,in, deg, 18, 38.77470856,N, 76, 51.62109375,E, grid, , , ,N
Point10,xy, , ,in, deg, , ,N, , ,W, grid, , , ,N
Point11,xy, , ,in, deg, , ,N, , ,W, grid, , , ,N
Point12,xy, , ,in, deg, , ,N, , ,W, grid, , , ,N
Point13,xy, , ,in, deg, , ,N, , ,W, grid, , , ,N
Point14,xy, , ,in, deg, , ,N, , ,W, grid, , , ,N
Point15,xy, , ,in, deg, , ,N, , ,W, grid, , , ,N
Point16,xy, , ,in, deg, , ,N, , ,W, grid, , , ,N
Point17,xy, , ,in, deg, , ,N, , ,W, grid, , , ,N
Point18,xy, , ,in, deg, , ,N, , ,W, grid, , , ,N
Point19,xy, , ,in, deg, , ,N, , ,W, grid, , , ,N
Point20,xy, , ,in, deg, , ,N, , ,W, grid, , , ,N
Point21,xy, , ,in, deg, , ,N, , ,W, grid, , , ,N
Point22,xy, , ,in, deg, , ,N, , ,W, grid, , , ,N
Point23,xy, , ,in, deg, , ,N, , ,W, grid, , , ,N
Point24,xy, , ,in, deg, , ,N, , ,W, grid, , , ,N
Point25,xy, , ,in, deg, , ,N, , ,W, grid, , , ,N
Point26,xy, , ,in, deg, , ,N, , ,W, grid, , , ,N
Point27,xy, , ,in, deg, , ,N, , ,W, grid, , , ,N
Point28,xy, , ,in, deg, , ,N, , ,W, grid, , , ,N
Point29,xy, , ,in, deg, , ,N, , ,W, grid, , , ,N
Point30,xy, , ,in, deg, , ,N, , ,W, grid, , , ,N
Projection Setup,,,,,,,,,,
Map Feature = MF ; Map Comment = MC These follow if they exist
Track File = TF These follow if they exist
Moving Map Parameters = MM? These follow if they exist
MM0,Yes
MMPNUM,4
MMPXY,1,0,0
MMPXY,2,12416,0
MMPXY,3,12416,5248
MMPXY,4,0,5248
MMPLL,1, 72.59765625, 22.02454560
MMPLL,2, 81.12304687, 22.02454560
MMPLL,3, 81.12304687, 18.64624514
MMPLL,4, 72.59765625, 18.64624514
MM1B,71.66876618
MOP,Map Open Position,0,0
IWH,Map Image Width/Height,12416,5248
