OziExplorer Map Data File Version 2.2
north.jpg
goanorth(500m).ozfx3
1 ,Map Code,
WGS 84,, 0.0000, 0.0000,WGS 84
Reserved 1
Reserved 2
Magnetic Variation,,,E
Map Projection,Mercator,PolyCal,No,AutoCalOnly,No,BSBUseWPX,No
Point01,xy, 0, 0,in, deg, 15, 46.50443495,N, 73, 39.38781738,E, grid, , , ,N
Point02,xy, 6064, 4128,in, deg, 15, 26.02947924,N, 74, 10.61645507,E, grid, , , ,N
Point03,xy, 0, 4128,in, deg, 15, 26.02947924,N, 73, 39.38781738,E, grid, , , ,N
Point04,xy, 6064, 0,in, deg, 15, 46.50443495,N, 74, 10.61645507,E, grid, , , ,N
Point05,xy, 3032, 2064,in, deg, 15, 36.27121443,N, 73, 55.00213623,E, grid, , , ,N
Point06,xy, 3032, 0,in, deg, 15, 46.50443495,N, 73, 55.00213623,E, grid, , , ,N
Point07,xy, 0, 2064,in, deg, 15, 36.27121443,N, 73, 39.38781738,E, grid, , , ,N
Point08,xy, 6064, 2064,in, deg, 15, 36.27121443,N, 74, 10.61645507,E, grid, , , ,N
Point09,xy, 3032, 4128,in, deg, 15, 26.02947924,N, 73, 55.00213623,E, grid, , , ,N
Point10,xy, , ,in, deg, , ,N, , ,W, grid, , , ,N
Point11,xy, , ,in, deg, , ,N, , ,W, grid, , , ,N
Point12,xy, , ,in, deg, , ,N, , ,W, grid, , , ,N
Point13,xy, , ,in, deg, , ,N, , ,W, grid, , , ,N
Point14,xy, , ,in, deg, , ,N, , ,W, grid, , , ,N
Point15,xy, , ,in, deg, , ,N, , ,W, grid, , , ,N
Point16,xy, , ,in, deg, , ,N, , ,W, grid, , , ,N
Point17,xy, , ,in, deg, , ,N, , ,W, grid, , , ,N
Point18,xy, , ,in, deg, , ,N, , ,W, grid, , , ,N
Point19,xy, , ,in, deg, , ,N, , ,W, grid, , , ,N
Point20,xy, , ,in, deg, , ,N, , ,W, grid, , , ,N
Point21,xy, , ,in, deg, , ,N, , ,W, grid, , , ,N
Point22,xy, , ,in, deg, , ,N, , ,W, grid, , , ,N
Point23,xy, , ,in, deg, , ,N, , ,W, grid, , , ,N
Point24,xy, , ,in, deg, , ,N, , ,W, grid, , , ,N
Point25,xy, , ,in, deg, , ,N, , ,W, grid, , , ,N
Point26,xy, , ,in, deg, , ,N, , ,W, grid, , , ,N
Point27,xy, , ,in, deg, , ,N, , ,W, grid, , , ,N
Point28,xy, , ,in, deg, , ,N, , ,W, grid, , , ,N
Point29,xy, , ,in, deg, , ,N, , ,W, grid, , , ,N
Point30,xy, , ,in, deg, , ,N, , ,W, grid, , , ,N
Projection Setup,,,,,,,,,,
Map Feature = MF ; Map Comment = MC These follow if they exist
Track File = TF These follow if they exist
Moving Map Parameters = MM? These follow if they exist
MM0,Yes
MMPNUM,4
MMPXY,1,0,0
MMPXY,2,6064,0
MMPXY,3,6064,4128
MMPXY,4,0,4128
MMPLL,1, 73.65646362, 15.77507391
MMPLL,2, 74.17694091, 15.77507391
MMPLL,3, 74.17694091, 15.43382465
MMPLL,4, 73.65646362, 15.43382465
MM1B,9.20245780
MOP,Map Open Position,0,0
IWH,Map Image Width/Height,6064,4128
