OziExplorer Map Data File Version 2.2
goa(5km).jpg
goa(5km).ozfx3
1 ,Map Code,
WGS 84,, 0.0000, 0.0000,WGS 84
Reserved 1
Reserved 2
Magnetic Variation,,,E
Map Projection,Mercator,PolyCal,No,AutoCalOnly,No,BSBUseWPX,No
Point01,xy, 0, 0,in, deg, 15, 49.12085777,N, 73, 38.48144531,E, grid, , , ,N
Point02,xy, 960, 1320,in, deg, 14, 56.68709250,N, 74, 18.03222656,E, grid, , , ,N
Point03,xy, 0, 1320,in, deg, 14, 56.68709250,N, 73, 38.48144531,E, grid, , , ,N
Point04,xy, 960, 0,in, deg, 15, 49.12085777,N, 74, 18.03222656,E, grid, , , ,N
Point05,xy, 480, 660,in, deg, 15, 22.93147714,N, 73, 58.25683593,E, grid, , , ,N
Point06,xy, 480, 0,in, deg, 15, 49.12085777,N, 73, 58.25683593,E, grid, , , ,N
Point07,xy, 0, 660,in, deg, 15, 22.93147714,N, 73, 38.48144531,E, grid, , , ,N
Point08,xy, 960, 660,in, deg, 15, 22.93147714,N, 74, 18.03222656,E, grid, , , ,N
Point09,xy, 480, 1320,in, deg, 14, 56.68709250,N, 73, 58.25683593,E, grid, , , ,N
Point10,xy, , ,in, deg, , ,N, , ,W, grid, , , ,N
Point11,xy, , ,in, deg, , ,N, , ,W, grid, , , ,N
Point12,xy, , ,in, deg, , ,N, , ,W, grid, , , ,N
Point13,xy, , ,in, deg, , ,N, , ,W, grid, , , ,N
Point14,xy, , ,in, deg, , ,N, , ,W, grid, , , ,N
Point15,xy, , ,in, deg, , ,N, , ,W, grid, , , ,N
Point16,xy, , ,in, deg, , ,N, , ,W, grid, , , ,N
Point17,xy, , ,in, deg, , ,N, , ,W, grid, , , ,N
Point18,xy, , ,in, deg, , ,N, , ,W, grid, , , ,N
Point19,xy, , ,in, deg, , ,N, , ,W, grid, , , ,N
Point20,xy, , ,in, deg, , ,N, , ,W, grid, , , ,N
Point21,xy, , ,in, deg, , ,N, , ,W, grid, , , ,N
Point22,xy, , ,in, deg, , ,N, , ,W, grid, , , ,N
Point23,xy, , ,in, deg, , ,N, , ,W, grid, , , ,N
Point24,xy, , ,in, deg, , ,N, , ,W, grid, , , ,N
Point25,xy, , ,in, deg, , ,N, , ,W, grid, , , ,N
Point26,xy, , ,in, deg, , ,N, , ,W, grid, , , ,N
Point27,xy, , ,in, deg, , ,N, , ,W, grid, , , ,N
Point28,xy, , ,in, deg, , ,N, , ,W, grid, , , ,N
Point29,xy, , ,in, deg, , ,N, , ,W, grid, , , ,N
Point30,xy, , ,in, deg, , ,N, , ,W, grid, , , ,N
Projection Setup,,,,,,,,,,
Map Feature = MF ; Map Comment = MC These follow if they exist
Track File = TF These follow if they exist
Moving Map Parameters = MM? These follow if they exist
MM0,Yes
MMPNUM,4
MMPXY,1,0,0
MMPXY,2,960,0
MMPXY,3,960,1320
MMPXY,4,0,1320
MMPLL,1, 73.64135742, 15.81868096
MMPLL,2, 74.30053710, 15.81868096
MMPLL,3, 74.30053710, 14.94478487
MMPLL,4, 73.64135742, 14.94478487
MM1B,73.69889326
MOP,Map Open Position,0,0
IWH,Map Image Width/Height,960,1320
